BEGIN:VCALENDAR
VERSION:2.0
PRODID:-//LennartChrist.de - ECPv6.15.17//NONSGML v1.0//EN
CALSCALE:GREGORIAN
METHOD:PUBLISH
X-ORIGINAL-URL:https://www.lennartchrist.de
X-WR-CALDESC:Veranstaltungen für LennartChrist.de
REFRESH-INTERVAL;VALUE=DURATION:PT1H
X-Robots-Tag:noindex
X-PUBLISHED-TTL:PT1H
BEGIN:VTIMEZONE
TZID:Europe/Berlin
BEGIN:DAYLIGHT
TZOFFSETFROM:+0100
TZOFFSETTO:+0200
TZNAME:CEST
DTSTART:20250330T010000
END:DAYLIGHT
BEGIN:STANDARD
TZOFFSETFROM:+0200
TZOFFSETTO:+0100
TZNAME:CET
DTSTART:20251026T010000
END:STANDARD
BEGIN:DAYLIGHT
TZOFFSETFROM:+0100
TZOFFSETTO:+0200
TZNAME:CEST
DTSTART:20260329T010000
END:DAYLIGHT
BEGIN:STANDARD
TZOFFSETFROM:+0200
TZOFFSETTO:+0100
TZNAME:CET
DTSTART:20261025T010000
END:STANDARD
BEGIN:DAYLIGHT
TZOFFSETFROM:+0100
TZOFFSETTO:+0200
TZNAME:CEST
DTSTART:20270328T010000
END:DAYLIGHT
BEGIN:STANDARD
TZOFFSETFROM:+0200
TZOFFSETTO:+0100
TZNAME:CET
DTSTART:20271031T010000
END:STANDARD
END:VTIMEZONE
BEGIN:VEVENT
DTSTART;TZID=Europe/Berlin:20260307T090000
DTEND;TZID=Europe/Berlin:20260307T110000
DTSTAMP:20260421T065221
CREATED:20260115T123021Z
LAST-MODIFIED:20260130T223014Z
UID:10000050-1772874000-1772881200@www.lennartchrist.de
SUMMARY:Infostand auf der Schönau
DESCRIPTION:Heute sind mein Team und ich mit einem Infostand auf dem Lena-Maurer-Platz auf der Schönau präsent. Mir ist der direkte Austausch wichtig: zuhören\, erklären\, diskutieren. Politik darf keine Einbahnstraße sein. Wer Fragen\, Anregungen oder Kritik hat\, ist herzlich eingeladen\, vorbeizukommen und ins Gespräch zu kommen.
URL:https://www.lennartchrist.de/event/infostand-auf-der-schoenau/2026-03-07/
LOCATION:Lena-Maurer-Platz\, Lena-Maurer-Platz\, Mannheim\, 68307\, Germany
CATEGORIES:Infostände
END:VEVENT
BEGIN:VEVENT
DTSTART;TZID=Europe/Berlin:20260228T090000
DTEND;TZID=Europe/Berlin:20260228T110000
DTSTAMP:20260421T065221
CREATED:20260115T123021Z
LAST-MODIFIED:20260130T223014Z
UID:10000049-1772269200-1772276400@www.lennartchrist.de
SUMMARY:Infostand auf der Schönau
DESCRIPTION:Heute sind mein Team und ich mit einem Infostand auf dem Lena-Maurer-Platz auf der Schönau präsent. Mir ist der direkte Austausch wichtig: zuhören\, erklären\, diskutieren. Politik darf keine Einbahnstraße sein. Wer Fragen\, Anregungen oder Kritik hat\, ist herzlich eingeladen\, vorbeizukommen und ins Gespräch zu kommen.
URL:https://www.lennartchrist.de/event/infostand-auf-der-schoenau/2026-02-28/
LOCATION:Lena-Maurer-Platz\, Lena-Maurer-Platz\, Mannheim\, 68307\, Germany
CATEGORIES:Infostände
END:VEVENT
BEGIN:VEVENT
DTSTART;TZID=Europe/Berlin:20260221T090000
DTEND;TZID=Europe/Berlin:20260221T110000
DTSTAMP:20260421T065221
CREATED:20260115T123021Z
LAST-MODIFIED:20260130T223014Z
UID:10000048-1771664400-1771671600@www.lennartchrist.de
SUMMARY:Infostand auf der Schönau
DESCRIPTION:Heute sind mein Team und ich mit einem Infostand auf dem Lena-Maurer-Platz auf der Schönau präsent. Mir ist der direkte Austausch wichtig: zuhören\, erklären\, diskutieren. Politik darf keine Einbahnstraße sein. Wer Fragen\, Anregungen oder Kritik hat\, ist herzlich eingeladen\, vorbeizukommen und ins Gespräch zu kommen.
URL:https://www.lennartchrist.de/event/infostand-auf-der-schoenau/2026-02-21/
LOCATION:Lena-Maurer-Platz\, Lena-Maurer-Platz\, Mannheim\, 68307\, Germany
CATEGORIES:Infostände
END:VEVENT
BEGIN:VEVENT
DTSTART;TZID=Europe/Berlin:20260214T090000
DTEND;TZID=Europe/Berlin:20260214T110000
DTSTAMP:20260421T065221
CREATED:20260115T123021Z
LAST-MODIFIED:20260130T223014Z
UID:10000047-1771059600-1771066800@www.lennartchrist.de
SUMMARY:Infostand auf der Schönau
DESCRIPTION:Heute sind mein Team und ich mit einem Infostand auf dem Lena-Maurer-Platz auf der Schönau präsent. Mir ist der direkte Austausch wichtig: zuhören\, erklären\, diskutieren. Politik darf keine Einbahnstraße sein. Wer Fragen\, Anregungen oder Kritik hat\, ist herzlich eingeladen\, vorbeizukommen und ins Gespräch zu kommen.
URL:https://www.lennartchrist.de/event/infostand-auf-der-schoenau/2026-02-14/
LOCATION:Lena-Maurer-Platz\, Lena-Maurer-Platz\, Mannheim\, 68307\, Germany
CATEGORIES:Infostände
END:VEVENT
BEGIN:VEVENT
DTSTART;TZID=Europe/Berlin:20260207T090000
DTEND;TZID=Europe/Berlin:20260207T110000
DTSTAMP:20260421T065221
CREATED:20260115T123021Z
LAST-MODIFIED:20260130T223014Z
UID:10000046-1770454800-1770462000@www.lennartchrist.de
SUMMARY:Infostand auf der Schönau
DESCRIPTION:Heute sind mein Team und ich mit einem Infostand auf dem Lena-Maurer-Platz auf der Schönau präsent. Mir ist der direkte Austausch wichtig: zuhören\, erklären\, diskutieren. Politik darf keine Einbahnstraße sein. Wer Fragen\, Anregungen oder Kritik hat\, ist herzlich eingeladen\, vorbeizukommen und ins Gespräch zu kommen.
URL:https://www.lennartchrist.de/event/infostand-auf-der-schoenau/2026-02-07/
LOCATION:Lena-Maurer-Platz\, Lena-Maurer-Platz\, Mannheim\, 68307\, Germany
CATEGORIES:Infostände
END:VEVENT
END:VCALENDAR