BEGIN:VCALENDAR
VERSION:2.0
PRODID:-//LennartChrist.de - ECPv6.15.17//NONSGML v1.0//EN
CALSCALE:GREGORIAN
METHOD:PUBLISH
X-WR-CALNAME:LennartChrist.de
X-ORIGINAL-URL:https://www.lennartchrist.de
X-WR-CALDESC:Veranstaltungen für LennartChrist.de
REFRESH-INTERVAL;VALUE=DURATION:PT1H
X-Robots-Tag:noindex
X-PUBLISHED-TTL:PT1H
BEGIN:VTIMEZONE
TZID:Europe/Berlin
BEGIN:DAYLIGHT
TZOFFSETFROM:+0100
TZOFFSETTO:+0200
TZNAME:CEST
DTSTART:20250330T010000
END:DAYLIGHT
BEGIN:STANDARD
TZOFFSETFROM:+0200
TZOFFSETTO:+0100
TZNAME:CET
DTSTART:20251026T010000
END:STANDARD
BEGIN:DAYLIGHT
TZOFFSETFROM:+0100
TZOFFSETTO:+0200
TZNAME:CEST
DTSTART:20260329T010000
END:DAYLIGHT
BEGIN:STANDARD
TZOFFSETFROM:+0200
TZOFFSETTO:+0100
TZNAME:CET
DTSTART:20261025T010000
END:STANDARD
BEGIN:DAYLIGHT
TZOFFSETFROM:+0100
TZOFFSETTO:+0200
TZNAME:CEST
DTSTART:20270328T010000
END:DAYLIGHT
BEGIN:STANDARD
TZOFFSETFROM:+0200
TZOFFSETTO:+0100
TZNAME:CET
DTSTART:20271031T010000
END:STANDARD
END:VTIMEZONE
BEGIN:VEVENT
DTSTART;TZID=Europe/Berlin:20260202T090000
DTEND;TZID=Europe/Berlin:20260202T180000
DTSTAMP:20260421T011038
CREATED:20260115T115303Z
LAST-MODIFIED:20260122T131254Z
UID:10000012-1770022800-1770055200@www.lennartchrist.de
SUMMARY:Haustürbesuche auf der Gartenstadt
DESCRIPTION:Ich bin heute auf der Gartenstadt unterwegs\, um mit den Menschen vor Ort ins Gespräch zu kommen. Mir ist wichtig zu hören\, was gut läuft – und wo es hakt. Politik beginnt für mich nicht im Rathaus\, sondern direkt bei Ihnen vor der Haustür. Ihre Anliegen nehme ich mit und setze mich dafür ein\, dass unser Stadtteil im Alltag zuverlässig funktioniert.
URL:https://www.lennartchrist.de/event/haustuerbesuche-auf-der-gartenstadt/2026-02-02/
CATEGORIES:Haustürbesuche
END:VEVENT
BEGIN:VEVENT
DTSTART;TZID=Europe/Berlin:20260203T090000
DTEND;TZID=Europe/Berlin:20260203T150000
DTSTAMP:20260421T011038
CREATED:20260115T115303Z
LAST-MODIFIED:20260122T131254Z
UID:10000013-1770109200-1770130800@www.lennartchrist.de
SUMMARY:Haustürbesuche auf der Gartenstadt
DESCRIPTION:Ich bin heute auf der Gartenstadt unterwegs\, um mit den Menschen vor Ort ins Gespräch zu kommen. Mir ist wichtig zu hören\, was gut läuft – und wo es hakt. Politik beginnt für mich nicht im Rathaus\, sondern direkt bei Ihnen vor der Haustür. Ihre Anliegen nehme ich mit und setze mich dafür ein\, dass unser Stadtteil im Alltag zuverlässig funktioniert.
URL:https://www.lennartchrist.de/event/haustuerbesuche-auf-der-gartenstadt/2026-02-03/
CATEGORIES:Haustürbesuche
END:VEVENT
BEGIN:VEVENT
DTSTART;TZID=Europe/Berlin:20260204T090000
DTEND;TZID=Europe/Berlin:20260204T180000
DTSTAMP:20260421T011038
CREATED:20260115T115803Z
LAST-MODIFIED:20260122T131228Z
UID:10000075-1770195600-1770228000@www.lennartchrist.de
SUMMARY:Haustürbesuche in Sandhofen
DESCRIPTION:Ich bin heute in Sandhofen unterwegs\, um mit den Menschen vor Ort ins Gespräch zu kommen. Mir ist wichtig zu hören\, was gut läuft – und wo es hakt. Politik beginnt für mich nicht im Rathaus\, sondern direkt bei Ihnen vor der Haustür. Ihre Anliegen nehme ich mit und setze mich dafür ein\, dass unser Stadtteil im Alltag zuverlässig funktioniert.
URL:https://www.lennartchrist.de/event/haustuerbesuche-in-sandhofen/2026-02-04/
CATEGORIES:Haustürbesuche
END:VEVENT
BEGIN:VEVENT
DTSTART;TZID=Europe/Berlin:20260205T130000
DTEND;TZID=Europe/Berlin:20260205T180000
DTSTAMP:20260421T011038
CREATED:20260115T115303Z
LAST-MODIFIED:20260122T131254Z
UID:10000015-1770296400-1770314400@www.lennartchrist.de
SUMMARY:Haustürbesuche auf der Gartenstadt
DESCRIPTION:Ich bin heute auf der Gartenstadt unterwegs\, um mit den Menschen vor Ort ins Gespräch zu kommen. Mir ist wichtig zu hören\, was gut läuft – und wo es hakt. Politik beginnt für mich nicht im Rathaus\, sondern direkt bei Ihnen vor der Haustür. Ihre Anliegen nehme ich mit und setze mich dafür ein\, dass unser Stadtteil im Alltag zuverlässig funktioniert.
URL:https://www.lennartchrist.de/event/haustuerbesuche-auf-der-gartenstadt/2026-02-05/
CATEGORIES:Haustürbesuche
END:VEVENT
BEGIN:VEVENT
DTSTART;TZID=Europe/Berlin:20260206T090000
DTEND;TZID=Europe/Berlin:20260206T180000
DTSTAMP:20260421T011038
CREATED:20260115T115626Z
LAST-MODIFIED:20260115T123508Z
UID:10000018-1770368400-1770400800@www.lennartchrist.de
SUMMARY:Haustürbesuche in Wallstadt
DESCRIPTION:Ich bin heute in Wallstadt unterwegs\, um mit den Menschen vor Ort ins Gespräch zu kommen. Mir ist wichtig zu hören\, was gut läuft – und wo es hakt. Politik beginnt für mich nicht im Rathaus\, sondern direkt bei Ihnen vor der Haustür. Ihre Anliegen nehme ich mit und setze mich dafür ein\, dass unser Stadtteil im Alltag zuverlässig funktioniert.
URL:https://www.lennartchrist.de/event/haustuerbesuche-in-wallstadt/2026-02-06/
CATEGORIES:Haustürbesuche
END:VEVENT
BEGIN:VEVENT
DTSTART;TZID=Europe/Berlin:20260207T090000
DTEND;TZID=Europe/Berlin:20260207T110000
DTSTAMP:20260421T011038
CREATED:20260115T123021Z
LAST-MODIFIED:20260130T223014Z
UID:10000046-1770454800-1770462000@www.lennartchrist.de
SUMMARY:Infostand auf der Schönau
DESCRIPTION:Heute sind mein Team und ich mit einem Infostand auf dem Lena-Maurer-Platz auf der Schönau präsent. Mir ist der direkte Austausch wichtig: zuhören\, erklären\, diskutieren. Politik darf keine Einbahnstraße sein. Wer Fragen\, Anregungen oder Kritik hat\, ist herzlich eingeladen\, vorbeizukommen und ins Gespräch zu kommen.
URL:https://www.lennartchrist.de/event/infostand-auf-der-schoenau/2026-02-07/
LOCATION:Lena-Maurer-Platz\, Lena-Maurer-Platz\, Mannheim\, 68307\, Germany
CATEGORIES:Infostände
END:VEVENT
BEGIN:VEVENT
DTSTART;TZID=Europe/Berlin:20260207T090000
DTEND;TZID=Europe/Berlin:20260207T110000
DTSTAMP:20260421T011038
CREATED:20260115T124728Z
LAST-MODIFIED:20260115T124739Z
UID:10000063-1770454800-1770462000@www.lennartchrist.de
SUMMARY:Infostand in Sandhofen
DESCRIPTION:Heute sind mein Team und ich mit einem Infostand auf dem Stich in Sandhofen präsent. Mir ist der direkte Austausch wichtig: zuhören\, erklären\, diskutieren. Politik darf keine Einbahnstraße sein. Wer Fragen\, Anregungen oder Kritik hat\, ist herzlich eingeladen\, vorbeizukommen und ins Gespräch zu kommen.
URL:https://www.lennartchrist.de/event/infostand-in-sandhofen/2026-02-07/
LOCATION:Am Stich\, Sandhofener Straße 266\, Mannheim\, 68307\, Germany
CATEGORIES:Infostände
END:VEVENT
BEGIN:VEVENT
DTSTART;TZID=Europe/Berlin:20260207T100000
DTEND;TZID=Europe/Berlin:20260207T120000
DTSTAMP:20260421T011038
CREATED:20260115T124407Z
LAST-MODIFIED:20260115T124407Z
UID:10000060-1770458400-1770465600@www.lennartchrist.de
SUMMARY:Infostand in Käfertal
DESCRIPTION:Heute sind mein Team und ich mit einem Infostand in der Nähe des Stempelparks in Käfertal präsent. Mir ist der direkte Austausch wichtig: zuhören\, erklären\, diskutieren. Politik darf keine Einbahnstraße sein. Wer Fragen\, Anregungen oder Kritik hat\, ist herzlich eingeladen\, vorbeizukommen und ins Gespräch zu kommen.
URL:https://www.lennartchrist.de/event/infostand-in-kaefertal/2026-02-07/
LOCATION:In der Nähe des Stempelparks\, Mannheimer Straße 38\, Mannheim\, 68309\, Germany
CATEGORIES:Infostände
END:VEVENT
BEGIN:VEVENT
DTSTART;TZID=Europe/Berlin:20260207T130000
DTEND;TZID=Europe/Berlin:20260207T180000
DTSTAMP:20260421T011038
CREATED:20260115T115303Z
LAST-MODIFIED:20260122T131254Z
UID:10000016-1770469200-1770487200@www.lennartchrist.de
SUMMARY:Haustürbesuche auf der Gartenstadt
DESCRIPTION:Ich bin heute auf der Gartenstadt unterwegs\, um mit den Menschen vor Ort ins Gespräch zu kommen. Mir ist wichtig zu hören\, was gut läuft – und wo es hakt. Politik beginnt für mich nicht im Rathaus\, sondern direkt bei Ihnen vor der Haustür. Ihre Anliegen nehme ich mit und setze mich dafür ein\, dass unser Stadtteil im Alltag zuverlässig funktioniert.
URL:https://www.lennartchrist.de/event/haustuerbesuche-auf-der-gartenstadt/2026-02-07/
CATEGORIES:Haustürbesuche
END:VEVENT
BEGIN:VEVENT
DTSTART;TZID=Europe/Berlin:20260209T090000
DTEND;TZID=Europe/Berlin:20260209T180000
DTSTAMP:20260421T011038
CREATED:20260115T115803Z
LAST-MODIFIED:20260122T131228Z
UID:10000025-1770627600-1770660000@www.lennartchrist.de
SUMMARY:Haustürbesuche in Sandhofen
DESCRIPTION:Ich bin heute in Sandhofen unterwegs\, um mit den Menschen vor Ort ins Gespräch zu kommen. Mir ist wichtig zu hören\, was gut läuft – und wo es hakt. Politik beginnt für mich nicht im Rathaus\, sondern direkt bei Ihnen vor der Haustür. Ihre Anliegen nehme ich mit und setze mich dafür ein\, dass unser Stadtteil im Alltag zuverlässig funktioniert.
URL:https://www.lennartchrist.de/event/haustuerbesuche-in-sandhofen/2026-02-09/
CATEGORIES:Haustürbesuche
END:VEVENT
BEGIN:VEVENT
DTSTART;TZID=Europe/Berlin:20260210T090000
DTEND;TZID=Europe/Berlin:20260210T180000
DTSTAMP:20260421T011038
CREATED:20260115T115803Z
LAST-MODIFIED:20260122T131228Z
UID:10000026-1770714000-1770746400@www.lennartchrist.de
SUMMARY:Haustürbesuche in Sandhofen
DESCRIPTION:Ich bin heute in Sandhofen unterwegs\, um mit den Menschen vor Ort ins Gespräch zu kommen. Mir ist wichtig zu hören\, was gut läuft – und wo es hakt. Politik beginnt für mich nicht im Rathaus\, sondern direkt bei Ihnen vor der Haustür. Ihre Anliegen nehme ich mit und setze mich dafür ein\, dass unser Stadtteil im Alltag zuverlässig funktioniert.
URL:https://www.lennartchrist.de/event/haustuerbesuche-in-sandhofen/2026-02-10/
CATEGORIES:Haustürbesuche
END:VEVENT
BEGIN:VEVENT
DTSTART;TZID=Europe/Berlin:20260211T090000
DTEND;TZID=Europe/Berlin:20260211T180000
DTSTAMP:20260421T011038
CREATED:20260115T115626Z
LAST-MODIFIED:20260115T123508Z
UID:10000019-1770800400-1770832800@www.lennartchrist.de
SUMMARY:Haustürbesuche in Wallstadt
DESCRIPTION:Ich bin heute in Wallstadt unterwegs\, um mit den Menschen vor Ort ins Gespräch zu kommen. Mir ist wichtig zu hören\, was gut läuft – und wo es hakt. Politik beginnt für mich nicht im Rathaus\, sondern direkt bei Ihnen vor der Haustür. Ihre Anliegen nehme ich mit und setze mich dafür ein\, dass unser Stadtteil im Alltag zuverlässig funktioniert.
URL:https://www.lennartchrist.de/event/haustuerbesuche-in-wallstadt/2026-02-11/
CATEGORIES:Haustürbesuche
END:VEVENT
BEGIN:VEVENT
DTSTART;TZID=Europe/Berlin:20260212T100000
DTEND;TZID=Europe/Berlin:20260212T120000
DTSTAMP:20260421T011038
CREATED:20260115T122351Z
LAST-MODIFIED:20260130T222914Z
UID:10000079-1770890400-1770897600@www.lennartchrist.de
SUMMARY:Infostand in Wallstadt
DESCRIPTION:Heute bin ich mit einem Infostand auf dem Rathausplatz in Wallstadt präsent. Mir ist der direkte Austausch wichtig: zuhören\, erklären\, diskutieren. Politik darf keine Einbahnstraße sein. Wer Fragen\, Anregungen oder Kritik hat\, ist herzlich eingeladen\, vorbeizukommen und ins Gespräch zu kommen.
URL:https://www.lennartchrist.de/event/infostand-in-wallstadt/2026-02-12/
LOCATION:Rathausplatz Wallstadt\, Mosbacher Straße 17\, Mannheim\, 68259\, Germany
CATEGORIES:Infostände
END:VEVENT
BEGIN:VEVENT
DTSTART;TZID=Europe/Berlin:20260212T110000
DTEND;TZID=Europe/Berlin:20260212T123000
DTSTAMP:20260421T011038
CREATED:20260115T125631Z
LAST-MODIFIED:20260115T125631Z
UID:10000070-1770894000-1770899400@www.lennartchrist.de
SUMMARY:Teilnahme an der Podiumsdiskussion "Bock auf Wahl"
DESCRIPTION:Bei der Podiumsdiskussion „Bock auf Wahl“ geht es mir um klare Positionen\, faire Debatten und konkrete Lösungen für die Herausforderungen junger Menschen vor Ort. Gute Jugendpolitik entscheidet darüber\, ob Teilhabe gelingt\, Chancen eröffnet werden und Engagement möglich bleibt. Politik muss verständlich bleiben – und Antworten geben\, die im Alltag von jungen Menschen spürbar sind: bei Bildung\, Mobilität\, Wohnraum und Beteiligung.
URL:https://www.lennartchrist.de/event/teilnahme-an-der-podiumsdiskussion-bock-auf-wahl/
CATEGORIES:Diskussionsrunde
END:VEVENT
BEGIN:VEVENT
DTSTART;TZID=Europe/Berlin:20260212T130000
DTEND;TZID=Europe/Berlin:20260212T180000
DTSTAMP:20260421T011038
CREATED:20260115T115927Z
LAST-MODIFIED:20260115T123455Z
UID:10000028-1770901200-1770919200@www.lennartchrist.de
SUMMARY:Haustürbesuche auf der Blumenau
DESCRIPTION:Ich bin heute auf der Blumenau unterwegs\, um mit den Menschen vor Ort ins Gespräch zu kommen. Mir ist wichtig zu hören\, was gut läuft – und wo es hakt. Politik beginnt für mich nicht im Rathaus\, sondern direkt bei Ihnen vor der Haustür. Ihre Anliegen nehme ich mit und setze mich dafür ein\, dass unser Stadtteil im Alltag zuverlässig funktioniert.
URL:https://www.lennartchrist.de/event/haustuerbesuche-auf-der-blumenau/2026-02-12/
CATEGORIES:Haustürbesuche
END:VEVENT
BEGIN:VEVENT
DTSTART;TZID=Europe/Berlin:20260213T100000
DTEND;TZID=Europe/Berlin:20260213T120000
DTSTAMP:20260421T011038
CREATED:20260115T122447Z
LAST-MODIFIED:20260115T123345Z
UID:10000043-1770976800-1770984000@www.lennartchrist.de
SUMMARY:Infostand auf der Gartenstadt
DESCRIPTION:Heute bin ich mit einem Infostand auf dem Freyaplatz auf der Gartenstadt präsent. Mir ist der direkte Austausch wichtig: zuhören\, erklären\, diskutieren. Politik darf keine Einbahnstraße sein. Wer Fragen\, Anregungen oder Kritik hat\, ist herzlich eingeladen\, vorbeizukommen und ins Gespräch zu kommen.
URL:https://www.lennartchrist.de/event/infostand-auf-der-gartenstadt/2026-02-13/
LOCATION:Freyaplatz\, Freyaplatz 1\, Mannheim\, 68305\, Germany
CATEGORIES:Infostände
END:VEVENT
BEGIN:VEVENT
DTSTART;TZID=Europe/Berlin:20260213T130000
DTEND;TZID=Europe/Berlin:20260213T180000
DTSTAMP:20260421T011038
CREATED:20260115T115927Z
LAST-MODIFIED:20260115T123455Z
UID:10000029-1770987600-1771005600@www.lennartchrist.de
SUMMARY:Haustürbesuche auf der Blumenau
DESCRIPTION:Ich bin heute auf der Blumenau unterwegs\, um mit den Menschen vor Ort ins Gespräch zu kommen. Mir ist wichtig zu hören\, was gut läuft – und wo es hakt. Politik beginnt für mich nicht im Rathaus\, sondern direkt bei Ihnen vor der Haustür. Ihre Anliegen nehme ich mit und setze mich dafür ein\, dass unser Stadtteil im Alltag zuverlässig funktioniert.
URL:https://www.lennartchrist.de/event/haustuerbesuche-auf-der-blumenau/2026-02-13/
CATEGORIES:Haustürbesuche
END:VEVENT
BEGIN:VEVENT
DTSTART;TZID=Europe/Berlin:20260214T090000
DTEND;TZID=Europe/Berlin:20260214T110000
DTSTAMP:20260421T011038
CREATED:20260115T123021Z
LAST-MODIFIED:20260130T223014Z
UID:10000047-1771059600-1771066800@www.lennartchrist.de
SUMMARY:Infostand auf der Schönau
DESCRIPTION:Heute sind mein Team und ich mit einem Infostand auf dem Lena-Maurer-Platz auf der Schönau präsent. Mir ist der direkte Austausch wichtig: zuhören\, erklären\, diskutieren. Politik darf keine Einbahnstraße sein. Wer Fragen\, Anregungen oder Kritik hat\, ist herzlich eingeladen\, vorbeizukommen und ins Gespräch zu kommen.
URL:https://www.lennartchrist.de/event/infostand-auf-der-schoenau/2026-02-14/
LOCATION:Lena-Maurer-Platz\, Lena-Maurer-Platz\, Mannheim\, 68307\, Germany
CATEGORIES:Infostände
END:VEVENT
BEGIN:VEVENT
DTSTART;TZID=Europe/Berlin:20260214T090000
DTEND;TZID=Europe/Berlin:20260214T110000
DTSTAMP:20260421T011038
CREATED:20260115T124146Z
LAST-MODIFIED:20260115T124437Z
UID:10000058-1771059600-1771066800@www.lennartchrist.de
SUMMARY:Infostand auf Franklin
DESCRIPTION:Heute sind mein Team und ich mit einem Infostand vor der Franklin Klinik auf Franklin präsent. Mir ist der direkte Austausch wichtig: zuhören\, erklären\, diskutieren. Politik darf keine Einbahnstraße sein. Wer Fragen\, Anregungen oder Kritik hat\, ist herzlich eingeladen\, vorbeizukommen und ins Gespräch zu kommen.
URL:https://www.lennartchrist.de/event/infostand-auf-franklin/2026-02-14/
LOCATION:Vor der Franklin Klinik\, Robert-Funari-Straße 2\, Mannheim\, 68309\, Germany
CATEGORIES:Infostände
END:VEVENT
BEGIN:VEVENT
DTSTART;TZID=Europe/Berlin:20260214T090000
DTEND;TZID=Europe/Berlin:20260214T110000
DTSTAMP:20260421T011038
CREATED:20260115T124916Z
LAST-MODIFIED:20260115T124916Z
UID:10000066-1771059600-1771066800@www.lennartchrist.de
SUMMARY:Infostand in Sandhofen
DESCRIPTION:Heute sind mein Team und ich mit einem Infostand im Lilienthalcenter in Sandhofen präsent. Mir ist der direkte Austausch wichtig: zuhören\, erklären\, diskutieren. Politik darf keine Einbahnstraße sein. Wer Fragen\, Anregungen oder Kritik hat\, ist herzlich eingeladen\, vorbeizukommen und ins Gespräch zu kommen.
URL:https://www.lennartchrist.de/event/infostand-in-sandhofen-2/2026-02-14/
LOCATION:Lilienthalcenter\, Amselstraße 10\, Mannheim\, 68307\, Germany
CATEGORIES:Infostände
END:VEVENT
BEGIN:VEVENT
DTSTART;TZID=Europe/Berlin:20260214T110000
DTEND;TZID=Europe/Berlin:20260214T130000
DTSTAMP:20260421T011038
CREATED:20260115T123813Z
LAST-MODIFIED:20260130T222815Z
UID:10000077-1771066800-1771074000@www.lennartchrist.de
SUMMARY:Infostand auf der Vogelstang
DESCRIPTION:Heute sind mein Team und ich mit einem Infostand vor dem Edeka im Vogelstang-Cener präsent. Mir ist der direkte Austausch wichtig: zuhören\, erklären\, diskutieren. Politik darf keine Einbahnstraße sein. Wer Fragen\, Anregungen oder Kritik hat\, ist herzlich eingeladen\, vorbeizukommen und ins Gespräch zu kommen.
URL:https://www.lennartchrist.de/event/infostand-auf-der-vogelstang/2026-02-14/
LOCATION:Vogelstang-Center\, Freiberger Ring 14\, 68309\, 68309\, Germany
CATEGORIES:Infostände
END:VEVENT
BEGIN:VEVENT
DTSTART;TZID=Europe/Berlin:20260214T130000
DTEND;TZID=Europe/Berlin:20260214T180000
DTSTAMP:20260421T011038
CREATED:20260115T115626Z
LAST-MODIFIED:20260115T123508Z
UID:10000020-1771074000-1771092000@www.lennartchrist.de
SUMMARY:Haustürbesuche in Wallstadt
DESCRIPTION:Ich bin heute in Wallstadt unterwegs\, um mit den Menschen vor Ort ins Gespräch zu kommen. Mir ist wichtig zu hören\, was gut läuft – und wo es hakt. Politik beginnt für mich nicht im Rathaus\, sondern direkt bei Ihnen vor der Haustür. Ihre Anliegen nehme ich mit und setze mich dafür ein\, dass unser Stadtteil im Alltag zuverlässig funktioniert.
URL:https://www.lennartchrist.de/event/haustuerbesuche-in-wallstadt/2026-02-14/
CATEGORIES:Haustürbesuche
END:VEVENT
BEGIN:VEVENT
DTSTART;TZID=Europe/Berlin:20260216T090000
DTEND;TZID=Europe/Berlin:20260216T180000
DTSTAMP:20260421T011038
CREATED:20260115T115303Z
LAST-MODIFIED:20260122T131254Z
UID:10000017-1771232400-1771264800@www.lennartchrist.de
SUMMARY:Haustürbesuche auf der Gartenstadt
DESCRIPTION:Ich bin heute auf der Gartenstadt unterwegs\, um mit den Menschen vor Ort ins Gespräch zu kommen. Mir ist wichtig zu hören\, was gut läuft – und wo es hakt. Politik beginnt für mich nicht im Rathaus\, sondern direkt bei Ihnen vor der Haustür. Ihre Anliegen nehme ich mit und setze mich dafür ein\, dass unser Stadtteil im Alltag zuverlässig funktioniert.
URL:https://www.lennartchrist.de/event/haustuerbesuche-auf-der-gartenstadt/2026-02-16/
CATEGORIES:Haustürbesuche
END:VEVENT
BEGIN:VEVENT
DTSTART;TZID=Europe/Berlin:20260217T090000
DTEND;TZID=Europe/Berlin:20260217T180000
DTSTAMP:20260421T011038
CREATED:20260115T115303Z
LAST-MODIFIED:20260122T131254Z
UID:10000076-1771318800-1771351200@www.lennartchrist.de
SUMMARY:Haustürbesuche auf der Gartenstadt
DESCRIPTION:Ich bin heute auf der Gartenstadt unterwegs\, um mit den Menschen vor Ort ins Gespräch zu kommen. Mir ist wichtig zu hören\, was gut läuft – und wo es hakt. Politik beginnt für mich nicht im Rathaus\, sondern direkt bei Ihnen vor der Haustür. Ihre Anliegen nehme ich mit und setze mich dafür ein\, dass unser Stadtteil im Alltag zuverlässig funktioniert.
URL:https://www.lennartchrist.de/event/haustuerbesuche-auf-der-gartenstadt/2026-02-17/
CATEGORIES:Haustürbesuche
END:VEVENT
BEGIN:VEVENT
DTSTART;TZID=Europe/Berlin:20260218T090000
DTEND;TZID=Europe/Berlin:20260218T180000
DTSTAMP:20260421T011038
CREATED:20260115T115626Z
LAST-MODIFIED:20260115T123508Z
UID:10000021-1771405200-1771437600@www.lennartchrist.de
SUMMARY:Haustürbesuche in Wallstadt
DESCRIPTION:Ich bin heute in Wallstadt unterwegs\, um mit den Menschen vor Ort ins Gespräch zu kommen. Mir ist wichtig zu hören\, was gut läuft – und wo es hakt. Politik beginnt für mich nicht im Rathaus\, sondern direkt bei Ihnen vor der Haustür. Ihre Anliegen nehme ich mit und setze mich dafür ein\, dass unser Stadtteil im Alltag zuverlässig funktioniert.
URL:https://www.lennartchrist.de/event/haustuerbesuche-in-wallstadt/2026-02-18/
CATEGORIES:Haustürbesuche
END:VEVENT
BEGIN:VEVENT
DTSTART;TZID=Europe/Berlin:20260219T100000
DTEND;TZID=Europe/Berlin:20260219T120000
DTSTAMP:20260421T011038
CREATED:20260115T122351Z
LAST-MODIFIED:20260130T222914Z
UID:10000042-1771495200-1771502400@www.lennartchrist.de
SUMMARY:Infostand in Wallstadt
DESCRIPTION:Heute bin ich mit einem Infostand auf dem Rathausplatz in Wallstadt präsent. Mir ist der direkte Austausch wichtig: zuhören\, erklären\, diskutieren. Politik darf keine Einbahnstraße sein. Wer Fragen\, Anregungen oder Kritik hat\, ist herzlich eingeladen\, vorbeizukommen und ins Gespräch zu kommen.
URL:https://www.lennartchrist.de/event/infostand-in-wallstadt/2026-02-19/
LOCATION:Rathausplatz Wallstadt\, Mosbacher Straße 17\, Mannheim\, 68259\, Germany
CATEGORIES:Infostände
END:VEVENT
BEGIN:VEVENT
DTSTART;TZID=Europe/Berlin:20260219T130000
DTEND;TZID=Europe/Berlin:20260219T180000
DTSTAMP:20260421T011038
CREATED:20260115T115626Z
LAST-MODIFIED:20260115T123508Z
UID:10000022-1771506000-1771524000@www.lennartchrist.de
SUMMARY:Haustürbesuche in Wallstadt
DESCRIPTION:Ich bin heute in Wallstadt unterwegs\, um mit den Menschen vor Ort ins Gespräch zu kommen. Mir ist wichtig zu hören\, was gut läuft – und wo es hakt. Politik beginnt für mich nicht im Rathaus\, sondern direkt bei Ihnen vor der Haustür. Ihre Anliegen nehme ich mit und setze mich dafür ein\, dass unser Stadtteil im Alltag zuverlässig funktioniert.
URL:https://www.lennartchrist.de/event/haustuerbesuche-in-wallstadt/2026-02-19/
CATEGORIES:Haustürbesuche
END:VEVENT
BEGIN:VEVENT
DTSTART;TZID=Europe/Berlin:20260220T100000
DTEND;TZID=Europe/Berlin:20260221T100000
DTSTAMP:20260421T011038
CREATED:20260115T130223Z
LAST-MODIFIED:20260115T130223Z
UID:10000074-1771581600-1771668000@www.lennartchrist.de
SUMMARY:Teilnahme am Bundesparteitag der CDU Deutschlands
DESCRIPTION:Teilnahme als Delegierter und Kreisvorsitzender der CDU Mannheim am Bundesparteitag der CDU Deutschlands. In einer entscheidenden Phase geht es darum\, den Kurs unseres Landes zu bestimmen und Verantwortung zu übernehmen. Mit der Neuwahl des Bundesvorstands stellen wir die CDU inhaltlich und personell für die kommenden Aufgaben auf – klar\, geschlossen und zukunftsorientiert.
URL:https://www.lennartchrist.de/event/teilnahme-am-bundesparteitag-der-cdu-deutschlands/
CATEGORIES:Parteiveranstaltung
END:VEVENT
BEGIN:VEVENT
DTSTART;TZID=Europe/Berlin:20260221T090000
DTEND;TZID=Europe/Berlin:20260221T110000
DTSTAMP:20260421T011038
CREATED:20260115T123021Z
LAST-MODIFIED:20260130T223014Z
UID:10000048-1771664400-1771671600@www.lennartchrist.de
SUMMARY:Infostand auf der Schönau
DESCRIPTION:Heute sind mein Team und ich mit einem Infostand auf dem Lena-Maurer-Platz auf der Schönau präsent. Mir ist der direkte Austausch wichtig: zuhören\, erklären\, diskutieren. Politik darf keine Einbahnstraße sein. Wer Fragen\, Anregungen oder Kritik hat\, ist herzlich eingeladen\, vorbeizukommen und ins Gespräch zu kommen.
URL:https://www.lennartchrist.de/event/infostand-auf-der-schoenau/2026-02-21/
LOCATION:Lena-Maurer-Platz\, Lena-Maurer-Platz\, Mannheim\, 68307\, Germany
CATEGORIES:Infostände
END:VEVENT
BEGIN:VEVENT
DTSTART;TZID=Europe/Berlin:20260221T090000
DTEND;TZID=Europe/Berlin:20260221T110000
DTSTAMP:20260421T011038
CREATED:20260115T124916Z
LAST-MODIFIED:20260115T124916Z
UID:10000067-1771664400-1771671600@www.lennartchrist.de
SUMMARY:Infostand in Sandhofen
DESCRIPTION:Heute sind mein Team und ich mit einem Infostand im Lilienthalcenter in Sandhofen präsent. Mir ist der direkte Austausch wichtig: zuhören\, erklären\, diskutieren. Politik darf keine Einbahnstraße sein. Wer Fragen\, Anregungen oder Kritik hat\, ist herzlich eingeladen\, vorbeizukommen und ins Gespräch zu kommen.
URL:https://www.lennartchrist.de/event/infostand-in-sandhofen-2/2026-02-21/
LOCATION:Lilienthalcenter\, Amselstraße 10\, Mannheim\, 68307\, Germany
CATEGORIES:Infostände
END:VEVENT
END:VCALENDAR