BEGIN:VCALENDAR
VERSION:2.0
PRODID:-//LennartChrist.de - ECPv6.15.17//NONSGML v1.0//EN
CALSCALE:GREGORIAN
METHOD:PUBLISH
X-WR-CALNAME:LennartChrist.de
X-ORIGINAL-URL:https://www.lennartchrist.de
X-WR-CALDESC:Veranstaltungen für LennartChrist.de
REFRESH-INTERVAL;VALUE=DURATION:PT1H
X-Robots-Tag:noindex
X-PUBLISHED-TTL:PT1H
BEGIN:VTIMEZONE
TZID:Europe/Berlin
BEGIN:DAYLIGHT
TZOFFSETFROM:+0100
TZOFFSETTO:+0200
TZNAME:CEST
DTSTART:20250330T010000
END:DAYLIGHT
BEGIN:STANDARD
TZOFFSETFROM:+0200
TZOFFSETTO:+0100
TZNAME:CET
DTSTART:20251026T010000
END:STANDARD
BEGIN:DAYLIGHT
TZOFFSETFROM:+0100
TZOFFSETTO:+0200
TZNAME:CEST
DTSTART:20260329T010000
END:DAYLIGHT
BEGIN:STANDARD
TZOFFSETFROM:+0200
TZOFFSETTO:+0100
TZNAME:CET
DTSTART:20261025T010000
END:STANDARD
BEGIN:DAYLIGHT
TZOFFSETFROM:+0100
TZOFFSETTO:+0200
TZNAME:CEST
DTSTART:20270328T010000
END:DAYLIGHT
BEGIN:STANDARD
TZOFFSETFROM:+0200
TZOFFSETTO:+0100
TZNAME:CET
DTSTART:20271031T010000
END:STANDARD
END:VTIMEZONE
BEGIN:VEVENT
DTSTART;TZID=Europe/Berlin:20260307T130000
DTEND;TZID=Europe/Berlin:20260307T160000
DTSTAMP:20260420T135345
CREATED:20260115T120327Z
LAST-MODIFIED:20260115T123420Z
UID:10000040-1772888400-1772899200@www.lennartchrist.de
SUMMARY:Haustürbesuche auf der Schönau
DESCRIPTION:Ich bin heute auf der Schönau unterwegs\, um mit den Menschen vor Ort ins Gespräch zu kommen. Mir ist wichtig zu hören\, was gut läuft – und wo es hakt. Politik beginnt für mich nicht im Rathaus\, sondern direkt bei Ihnen vor der Haustür. Ihre Anliegen nehme ich mit und setze mich dafür ein\, dass unser Stadtteil im Alltag zuverlässig funktioniert.
URL:https://www.lennartchrist.de/event/haustuerbesuche-auf-der-schoenau/2026-03-07/
CATEGORIES:Haustürbesuche
END:VEVENT
BEGIN:VEVENT
DTSTART;TZID=Europe/Berlin:20260307T100000
DTEND;TZID=Europe/Berlin:20260307T130000
DTSTAMP:20260420T135345
CREATED:20260115T123813Z
LAST-MODIFIED:20260130T222815Z
UID:10000056-1772877600-1772888400@www.lennartchrist.de
SUMMARY:Infostand auf der Vogelstang
DESCRIPTION:Heute sind mein Team und ich mit einem Infostand vor dem Edeka im Vogelstang-Cener präsent. Mir ist der direkte Austausch wichtig: zuhören\, erklären\, diskutieren. Politik darf keine Einbahnstraße sein. Wer Fragen\, Anregungen oder Kritik hat\, ist herzlich eingeladen\, vorbeizukommen und ins Gespräch zu kommen.
URL:https://www.lennartchrist.de/event/infostand-auf-der-vogelstang/2026-03-07/
LOCATION:Vogelstang-Center\, Freiberger Ring 14\, 68309\, 68309\, Germany
CATEGORIES:Infostände
END:VEVENT
BEGIN:VEVENT
DTSTART;TZID=Europe/Berlin:20260307T100000
DTEND;TZID=Europe/Berlin:20260307T120000
DTSTAMP:20260420T135345
CREATED:20260115T124407Z
LAST-MODIFIED:20260115T124407Z
UID:10000062-1772877600-1772884800@www.lennartchrist.de
SUMMARY:Infostand in Käfertal
DESCRIPTION:Heute sind mein Team und ich mit einem Infostand in der Nähe des Stempelparks in Käfertal präsent. Mir ist der direkte Austausch wichtig: zuhören\, erklären\, diskutieren. Politik darf keine Einbahnstraße sein. Wer Fragen\, Anregungen oder Kritik hat\, ist herzlich eingeladen\, vorbeizukommen und ins Gespräch zu kommen.
URL:https://www.lennartchrist.de/event/infostand-in-kaefertal/2026-03-07/
LOCATION:In der Nähe des Stempelparks\, Mannheimer Straße 38\, Mannheim\, 68309\, Germany
CATEGORIES:Infostände
END:VEVENT
BEGIN:VEVENT
DTSTART;TZID=Europe/Berlin:20260307T090000
DTEND;TZID=Europe/Berlin:20260307T110000
DTSTAMP:20260420T135345
CREATED:20260115T124916Z
LAST-MODIFIED:20260115T124916Z
UID:10000068-1772874000-1772881200@www.lennartchrist.de
SUMMARY:Infostand in Sandhofen
DESCRIPTION:Heute sind mein Team und ich mit einem Infostand im Lilienthalcenter in Sandhofen präsent. Mir ist der direkte Austausch wichtig: zuhören\, erklären\, diskutieren. Politik darf keine Einbahnstraße sein. Wer Fragen\, Anregungen oder Kritik hat\, ist herzlich eingeladen\, vorbeizukommen und ins Gespräch zu kommen.
URL:https://www.lennartchrist.de/event/infostand-in-sandhofen-2/2026-03-07/
LOCATION:Lilienthalcenter\, Amselstraße 10\, Mannheim\, 68307\, Germany
CATEGORIES:Infostände
END:VEVENT
BEGIN:VEVENT
DTSTART;TZID=Europe/Berlin:20260307T090000
DTEND;TZID=Europe/Berlin:20260307T110000
DTSTAMP:20260420T135345
CREATED:20260115T123021Z
LAST-MODIFIED:20260130T223014Z
UID:10000050-1772874000-1772881200@www.lennartchrist.de
SUMMARY:Infostand auf der Schönau
DESCRIPTION:Heute sind mein Team und ich mit einem Infostand auf dem Lena-Maurer-Platz auf der Schönau präsent. Mir ist der direkte Austausch wichtig: zuhören\, erklären\, diskutieren. Politik darf keine Einbahnstraße sein. Wer Fragen\, Anregungen oder Kritik hat\, ist herzlich eingeladen\, vorbeizukommen und ins Gespräch zu kommen.
URL:https://www.lennartchrist.de/event/infostand-auf-der-schoenau/2026-03-07/
LOCATION:Lena-Maurer-Platz\, Lena-Maurer-Platz\, Mannheim\, 68307\, Germany
CATEGORIES:Infostände
END:VEVENT
BEGIN:VEVENT
DTSTART;TZID=Europe/Berlin:20260306T090000
DTEND;TZID=Europe/Berlin:20260306T180000
DTSTAMP:20260420T135345
CREATED:20260115T120327Z
LAST-MODIFIED:20260115T123420Z
UID:10000039-1772787600-1772820000@www.lennartchrist.de
SUMMARY:Haustürbesuche auf der Schönau
DESCRIPTION:Ich bin heute auf der Schönau unterwegs\, um mit den Menschen vor Ort ins Gespräch zu kommen. Mir ist wichtig zu hören\, was gut läuft – und wo es hakt. Politik beginnt für mich nicht im Rathaus\, sondern direkt bei Ihnen vor der Haustür. Ihre Anliegen nehme ich mit und setze mich dafür ein\, dass unser Stadtteil im Alltag zuverlässig funktioniert.
URL:https://www.lennartchrist.de/event/haustuerbesuche-auf-der-schoenau/2026-03-06/
CATEGORIES:Haustürbesuche
END:VEVENT
BEGIN:VEVENT
DTSTART;TZID=Europe/Berlin:20260305T100000
DTEND;TZID=Europe/Berlin:20260305T120000
DTSTAMP:20260420T135345
CREATED:20260115T122351Z
LAST-MODIFIED:20260130T222914Z
UID:10000080-1772704800-1772712000@www.lennartchrist.de
SUMMARY:Infostand in Wallstadt
DESCRIPTION:Heute bin ich mit einem Infostand auf dem Rathausplatz in Wallstadt präsent. Mir ist der direkte Austausch wichtig: zuhören\, erklären\, diskutieren. Politik darf keine Einbahnstraße sein. Wer Fragen\, Anregungen oder Kritik hat\, ist herzlich eingeladen\, vorbeizukommen und ins Gespräch zu kommen.
URL:https://www.lennartchrist.de/event/infostand-in-wallstadt/2026-03-05/
LOCATION:Rathausplatz Wallstadt\, Mosbacher Straße 17\, Mannheim\, 68259\, Germany
CATEGORIES:Infostände
END:VEVENT
BEGIN:VEVENT
DTSTART;TZID=Europe/Berlin:20260305T090000
DTEND;TZID=Europe/Berlin:20260305T180000
DTSTAMP:20260420T135345
CREATED:20260115T120241Z
LAST-MODIFIED:20260115T123436Z
UID:10000038-1772701200-1772733600@www.lennartchrist.de
SUMMARY:Haustürbesuche in der Neckarstadt
DESCRIPTION:Ich bin heut ein der Neckarstadt unterwegs\, um mit den Menschen vor Ort ins Gespräch zu kommen. Mir ist wichtig zu hören\, was gut läuft – und wo es hakt. Politik beginnt für mich nicht im Rathaus\, sondern direkt bei Ihnen vor der Haustür. Ihre Anliegen nehme ich mit und setze mich dafür ein\, dass unser Stadtteil im Alltag zuverlässig funktioniert.
URL:https://www.lennartchrist.de/event/haustuerbesuche-in-der-neckarstadt/2026-03-05/
CATEGORIES:Haustürbesuche
END:VEVENT
BEGIN:VEVENT
DTSTART;TZID=Europe/Berlin:20260304T090000
DTEND;TZID=Europe/Berlin:20260304T180000
DTSTAMP:20260420T135345
CREATED:20260115T120241Z
LAST-MODIFIED:20260115T123436Z
UID:10000037-1772614800-1772647200@www.lennartchrist.de
SUMMARY:Haustürbesuche in der Neckarstadt
DESCRIPTION:Ich bin heut ein der Neckarstadt unterwegs\, um mit den Menschen vor Ort ins Gespräch zu kommen. Mir ist wichtig zu hören\, was gut läuft – und wo es hakt. Politik beginnt für mich nicht im Rathaus\, sondern direkt bei Ihnen vor der Haustür. Ihre Anliegen nehme ich mit und setze mich dafür ein\, dass unser Stadtteil im Alltag zuverlässig funktioniert.
URL:https://www.lennartchrist.de/event/haustuerbesuche-in-der-neckarstadt/2026-03-04/
CATEGORIES:Haustürbesuche
END:VEVENT
BEGIN:VEVENT
DTSTART;TZID=Europe/Berlin:20260303T180000
DTEND;TZID=Europe/Berlin:20260303T220000
DTSTAMP:20260420T135345
CREATED:20260115T130034Z
LAST-MODIFIED:20260115T130034Z
UID:10000073-1772560800-1772575200@www.lennartchrist.de
SUMMARY:Teilnahme an der Podiumsdiskussion des Mannheimer Morgens
DESCRIPTION:Bei der Podiumsdiskussion des Mannheimer Morgens – als Highlight der letzten Wahlkampfwoche – geht es mir darum\, wie wir Mannheim stärken und unser Land wieder auf Kurs bringen. Eine leistungsfähige Verwaltung\, funktionierende Infrastruktur und verlässliche politische Entscheidungen sind entscheidend für Vertrauen und Zusammenhalt. Politik muss Orientierung geben\, Verantwortung übernehmen – und Lösungen liefern\, die die Menschen in Mannheim konkret voranbringen.
URL:https://www.lennartchrist.de/event/teilnahme-an-der-podiumsdiskussion-des-mannheimer-morgens/
CATEGORIES:Diskussionsrunde
END:VEVENT
BEGIN:VEVENT
DTSTART;TZID=Europe/Berlin:20260303T090000
DTEND;TZID=Europe/Berlin:20260303T160000
DTSTAMP:20260420T135345
CREATED:20260115T120052Z
LAST-MODIFIED:20260115T123449Z
UID:10000033-1772528400-1772553600@www.lennartchrist.de
SUMMARY:Haustürbesuche auf der Vogelstang
DESCRIPTION:Ich bin heute auf der Vogelstang unterwegs\, um mit den Menschen vor Ort ins Gespräch zu kommen. Mir ist wichtig zu hören\, was gut läuft – und wo es hakt. Politik beginnt für mich nicht im Rathaus\, sondern direkt bei Ihnen vor der Haustür. Ihre Anliegen nehme ich mit und setze mich dafür ein\, dass unser Stadtteil im Alltag zuverlässig funktioniert.
URL:https://www.lennartchrist.de/event/haustuerbesuche-auf-der-vogelstang/2026-03-03/
CATEGORIES:Haustürbesuche
END:VEVENT
BEGIN:VEVENT
DTSTART;TZID=Europe/Berlin:20260302T090000
DTEND;TZID=Europe/Berlin:20260302T180000
DTSTAMP:20260420T135345
CREATED:20260115T120154Z
LAST-MODIFIED:20260115T123443Z
UID:10000036-1772442000-1772474400@www.lennartchrist.de
SUMMARY:Haustürbesuche in Käfertal
DESCRIPTION:Ich bin heute in Käfertal unterwegs\, um mit den Menschen vor Ort ins Gespräch zu kommen. Mir ist wichtig zu hören\, was gut läuft – und wo es hakt. Politik beginnt für mich nicht im Rathaus\, sondern direkt bei Ihnen vor der Haustür. Ihre Anliegen nehme ich mit und setze mich dafür ein\, dass unser Stadtteil im Alltag zuverlässig funktioniert.
URL:https://www.lennartchrist.de/event/haustuerbesuche-in-kaefertal/2026-03-02/
CATEGORIES:Haustürbesuche
END:VEVENT
BEGIN:VEVENT
DTSTART;TZID=Europe/Berlin:20260228T130000
DTEND;TZID=Europe/Berlin:20260228T180000
DTSTAMP:20260420T135345
CREATED:20260115T120052Z
LAST-MODIFIED:20260115T123449Z
UID:10000032-1772283600-1772301600@www.lennartchrist.de
SUMMARY:Haustürbesuche auf der Vogelstang
DESCRIPTION:Ich bin heute auf der Vogelstang unterwegs\, um mit den Menschen vor Ort ins Gespräch zu kommen. Mir ist wichtig zu hören\, was gut läuft – und wo es hakt. Politik beginnt für mich nicht im Rathaus\, sondern direkt bei Ihnen vor der Haustür. Ihre Anliegen nehme ich mit und setze mich dafür ein\, dass unser Stadtteil im Alltag zuverlässig funktioniert.
URL:https://www.lennartchrist.de/event/haustuerbesuche-auf-der-vogelstang/2026-02-28/
CATEGORIES:Haustürbesuche
END:VEVENT
BEGIN:VEVENT
DTSTART;TZID=Europe/Berlin:20260228T090000
DTEND;TZID=Europe/Berlin:20260228T110000
DTSTAMP:20260420T135345
CREATED:20260115T124728Z
LAST-MODIFIED:20260115T124739Z
UID:10000064-1772269200-1772276400@www.lennartchrist.de
SUMMARY:Infostand in Sandhofen
DESCRIPTION:Heute sind mein Team und ich mit einem Infostand auf dem Stich in Sandhofen präsent. Mir ist der direkte Austausch wichtig: zuhören\, erklären\, diskutieren. Politik darf keine Einbahnstraße sein. Wer Fragen\, Anregungen oder Kritik hat\, ist herzlich eingeladen\, vorbeizukommen und ins Gespräch zu kommen.
URL:https://www.lennartchrist.de/event/infostand-in-sandhofen/2026-02-28/
LOCATION:Am Stich\, Sandhofener Straße 266\, Mannheim\, 68307\, Germany
CATEGORIES:Infostände
END:VEVENT
BEGIN:VEVENT
DTSTART;TZID=Europe/Berlin:20260228T090000
DTEND;TZID=Europe/Berlin:20260228T110000
DTSTAMP:20260420T135345
CREATED:20260115T124146Z
LAST-MODIFIED:20260115T124437Z
UID:10000059-1772269200-1772276400@www.lennartchrist.de
SUMMARY:Infostand auf Franklin
DESCRIPTION:Heute sind mein Team und ich mit einem Infostand vor der Franklin Klinik auf Franklin präsent. Mir ist der direkte Austausch wichtig: zuhören\, erklären\, diskutieren. Politik darf keine Einbahnstraße sein. Wer Fragen\, Anregungen oder Kritik hat\, ist herzlich eingeladen\, vorbeizukommen und ins Gespräch zu kommen.
URL:https://www.lennartchrist.de/event/infostand-auf-franklin/2026-02-28/
LOCATION:Vor der Franklin Klinik\, Robert-Funari-Straße 2\, Mannheim\, 68309\, Germany
CATEGORIES:Infostände
END:VEVENT
BEGIN:VEVENT
DTSTART;TZID=Europe/Berlin:20260228T090000
DTEND;TZID=Europe/Berlin:20260228T110000
DTSTAMP:20260420T135345
CREATED:20260115T123021Z
LAST-MODIFIED:20260130T223014Z
UID:10000049-1772269200-1772276400@www.lennartchrist.de
SUMMARY:Infostand auf der Schönau
DESCRIPTION:Heute sind mein Team und ich mit einem Infostand auf dem Lena-Maurer-Platz auf der Schönau präsent. Mir ist der direkte Austausch wichtig: zuhören\, erklären\, diskutieren. Politik darf keine Einbahnstraße sein. Wer Fragen\, Anregungen oder Kritik hat\, ist herzlich eingeladen\, vorbeizukommen und ins Gespräch zu kommen.
URL:https://www.lennartchrist.de/event/infostand-auf-der-schoenau/2026-02-28/
LOCATION:Lena-Maurer-Platz\, Lena-Maurer-Platz\, Mannheim\, 68307\, Germany
CATEGORIES:Infostände
END:VEVENT
BEGIN:VEVENT
DTSTART;TZID=Europe/Berlin:20260227T130000
DTEND;TZID=Europe/Berlin:20260227T180000
DTSTAMP:20260420T135345
CREATED:20260115T120154Z
LAST-MODIFIED:20260115T123443Z
UID:10000035-1772197200-1772215200@www.lennartchrist.de
SUMMARY:Haustürbesuche in Käfertal
DESCRIPTION:Ich bin heute in Käfertal unterwegs\, um mit den Menschen vor Ort ins Gespräch zu kommen. Mir ist wichtig zu hören\, was gut läuft – und wo es hakt. Politik beginnt für mich nicht im Rathaus\, sondern direkt bei Ihnen vor der Haustür. Ihre Anliegen nehme ich mit und setze mich dafür ein\, dass unser Stadtteil im Alltag zuverlässig funktioniert.
URL:https://www.lennartchrist.de/event/haustuerbesuche-in-kaefertal/2026-02-27/
CATEGORIES:Haustürbesuche
END:VEVENT
BEGIN:VEVENT
DTSTART;TZID=Europe/Berlin:20260227T100000
DTEND;TZID=Europe/Berlin:20260227T120000
DTSTAMP:20260420T135345
CREATED:20260115T122447Z
LAST-MODIFIED:20260115T123345Z
UID:10000044-1772186400-1772193600@www.lennartchrist.de
SUMMARY:Infostand auf der Gartenstadt
DESCRIPTION:Heute bin ich mit einem Infostand auf dem Freyaplatz auf der Gartenstadt präsent. Mir ist der direkte Austausch wichtig: zuhören\, erklären\, diskutieren. Politik darf keine Einbahnstraße sein. Wer Fragen\, Anregungen oder Kritik hat\, ist herzlich eingeladen\, vorbeizukommen und ins Gespräch zu kommen.
URL:https://www.lennartchrist.de/event/infostand-auf-der-gartenstadt/2026-02-27/
LOCATION:Freyaplatz\, Freyaplatz 1\, Mannheim\, 68305\, Germany
CATEGORIES:Infostände
END:VEVENT
BEGIN:VEVENT
DTSTART;TZID=Europe/Berlin:20260226T170000
DTEND;TZID=Europe/Berlin:20260226T190000
DTSTAMP:20260420T135345
CREATED:20260115T125939Z
LAST-MODIFIED:20260115T125939Z
UID:10000072-1772125200-1772132400@www.lennartchrist.de
SUMMARY:Teilnahme an der Podiumsdiskussion der Architektenkammer
DESCRIPTION:Bei der Podiumsdiskussion der Architektenkammer geht es mir um bezahlbares Wohnen und um Rahmenbedingungen\, die Bauen wieder möglich machen. Hohe Kosten\, lange Genehmigungen und überzogene Vorgaben verschärfen den Wohnungsmangel. Wir brauchen mehr Tempo\, klare Zuständigkeiten und Lösungen\, die Qualität\, Bezahlbarkeit und Stadtentwicklung zusammenbringen. Politik muss verständlich bleiben – und im Alltag spürbare Entlastung schaffen.
URL:https://www.lennartchrist.de/event/teilnahme-an-der-podiumsdiskussion-der-architektenkammer/
CATEGORIES:Diskussionsrunde
END:VEVENT
BEGIN:VEVENT
DTSTART;TZID=Europe/Berlin:20260226T150000
DTEND;TZID=Europe/Berlin:20260226T180000
DTSTAMP:20260420T135345
CREATED:20260115T123813Z
LAST-MODIFIED:20260130T222815Z
UID:10000078-1772118000-1772128800@www.lennartchrist.de
SUMMARY:Infostand auf der Vogelstang
DESCRIPTION:Heute sind mein Team und ich mit einem Infostand vor dem Edeka im Vogelstang-Cener präsent. Mir ist der direkte Austausch wichtig: zuhören\, erklären\, diskutieren. Politik darf keine Einbahnstraße sein. Wer Fragen\, Anregungen oder Kritik hat\, ist herzlich eingeladen\, vorbeizukommen und ins Gespräch zu kommen.
URL:https://www.lennartchrist.de/event/infostand-auf-der-vogelstang/2026-02-26/
LOCATION:Vogelstang-Center\, Freiberger Ring 14\, 68309\, 68309\, Germany
CATEGORIES:Infostände
END:VEVENT
BEGIN:VEVENT
DTSTART;TZID=Europe/Berlin:20260226T090000
DTEND;TZID=Europe/Berlin:20260226T160000
DTSTAMP:20260420T135345
CREATED:20260115T120154Z
LAST-MODIFIED:20260115T123443Z
UID:10000034-1772096400-1772121600@www.lennartchrist.de
SUMMARY:Haustürbesuche in Käfertal
DESCRIPTION:Ich bin heute in Käfertal unterwegs\, um mit den Menschen vor Ort ins Gespräch zu kommen. Mir ist wichtig zu hören\, was gut läuft – und wo es hakt. Politik beginnt für mich nicht im Rathaus\, sondern direkt bei Ihnen vor der Haustür. Ihre Anliegen nehme ich mit und setze mich dafür ein\, dass unser Stadtteil im Alltag zuverlässig funktioniert.
URL:https://www.lennartchrist.de/event/haustuerbesuche-in-kaefertal/2026-02-26/
CATEGORIES:Haustürbesuche
END:VEVENT
BEGIN:VEVENT
DTSTART;TZID=Europe/Berlin:20260225T090000
DTEND;TZID=Europe/Berlin:20260225T180000
DTSTAMP:20260420T135345
CREATED:20260115T115626Z
LAST-MODIFIED:20260115T123508Z
UID:10000024-1772010000-1772042400@www.lennartchrist.de
SUMMARY:Haustürbesuche in Wallstadt
DESCRIPTION:Ich bin heute in Wallstadt unterwegs\, um mit den Menschen vor Ort ins Gespräch zu kommen. Mir ist wichtig zu hören\, was gut läuft – und wo es hakt. Politik beginnt für mich nicht im Rathaus\, sondern direkt bei Ihnen vor der Haustür. Ihre Anliegen nehme ich mit und setze mich dafür ein\, dass unser Stadtteil im Alltag zuverlässig funktioniert.
URL:https://www.lennartchrist.de/event/haustuerbesuche-in-wallstadt/2026-02-25/
CATEGORIES:Haustürbesuche
END:VEVENT
BEGIN:VEVENT
DTSTART;TZID=Europe/Berlin:20260224T090000
DTEND;TZID=Europe/Berlin:20260224T180000
DTSTAMP:20260420T135345
CREATED:20260115T120052Z
LAST-MODIFIED:20260115T123449Z
UID:10000031-1771923600-1771956000@www.lennartchrist.de
SUMMARY:Haustürbesuche auf der Vogelstang
DESCRIPTION:Ich bin heute auf der Vogelstang unterwegs\, um mit den Menschen vor Ort ins Gespräch zu kommen. Mir ist wichtig zu hören\, was gut läuft – und wo es hakt. Politik beginnt für mich nicht im Rathaus\, sondern direkt bei Ihnen vor der Haustür. Ihre Anliegen nehme ich mit und setze mich dafür ein\, dass unser Stadtteil im Alltag zuverlässig funktioniert.
URL:https://www.lennartchrist.de/event/haustuerbesuche-auf-der-vogelstang/2026-02-24/
CATEGORIES:Haustürbesuche
END:VEVENT
BEGIN:VEVENT
DTSTART;TZID=Europe/Berlin:20260223T180000
DTEND;TZID=Europe/Berlin:20260223T200000
DTSTAMP:20260420T135345
CREATED:20260115T125851Z
LAST-MODIFIED:20260115T125851Z
UID:10000071-1771869600-1771876800@www.lennartchrist.de
SUMMARY:Teilnahme an der Podiumsdiskussion der IHK Rhein-Neckar
DESCRIPTION:Bei der Podiumsdiskussion der IHK geht es mir um eine Wirtschaftspolitik\, die Verlässlichkeit schafft und Wachstum ermöglicht. Starke Unternehmen sichern Arbeitsplätze\, Ausbildung und kommunale Einnahmen. Dafür braucht es praktikable Regeln\, schnellere Verfahren und eine Politik\, die Investitionen erleichtert statt ausbremst. Politik muss verständlich bleiben – und Antworten geben\, die im betrieblichen Alltag tatsächlich wirken.
URL:https://www.lennartchrist.de/event/teilnahme-an-der-podiumsdiskussion-der-ihk-rhein-neckar/
CATEGORIES:Diskussionsrunde
END:VEVENT
BEGIN:VEVENT
DTSTART;TZID=Europe/Berlin:20260223T090000
DTEND;TZID=Europe/Berlin:20260223T180000
DTSTAMP:20260420T135345
CREATED:20260115T120052Z
LAST-MODIFIED:20260115T123449Z
UID:10000030-1771837200-1771869600@www.lennartchrist.de
SUMMARY:Haustürbesuche auf der Vogelstang
DESCRIPTION:Ich bin heute auf der Vogelstang unterwegs\, um mit den Menschen vor Ort ins Gespräch zu kommen. Mir ist wichtig zu hören\, was gut läuft – und wo es hakt. Politik beginnt für mich nicht im Rathaus\, sondern direkt bei Ihnen vor der Haustür. Ihre Anliegen nehme ich mit und setze mich dafür ein\, dass unser Stadtteil im Alltag zuverlässig funktioniert.
URL:https://www.lennartchrist.de/event/haustuerbesuche-auf-der-vogelstang/2026-02-23/
CATEGORIES:Haustürbesuche
END:VEVENT
BEGIN:VEVENT
DTSTART;TZID=Europe/Berlin:20260221T130000
DTEND;TZID=Europe/Berlin:20260221T180000
DTSTAMP:20260420T135345
CREATED:20260115T115626Z
LAST-MODIFIED:20260115T123508Z
UID:10000023-1771678800-1771696800@www.lennartchrist.de
SUMMARY:Haustürbesuche in Wallstadt
DESCRIPTION:Ich bin heute in Wallstadt unterwegs\, um mit den Menschen vor Ort ins Gespräch zu kommen. Mir ist wichtig zu hören\, was gut läuft – und wo es hakt. Politik beginnt für mich nicht im Rathaus\, sondern direkt bei Ihnen vor der Haustür. Ihre Anliegen nehme ich mit und setze mich dafür ein\, dass unser Stadtteil im Alltag zuverlässig funktioniert.
URL:https://www.lennartchrist.de/event/haustuerbesuche-in-wallstadt/2026-02-21/
CATEGORIES:Haustürbesuche
END:VEVENT
BEGIN:VEVENT
DTSTART;TZID=Europe/Berlin:20260221T100000
DTEND;TZID=Europe/Berlin:20260221T120000
DTSTAMP:20260420T135345
CREATED:20260115T124407Z
LAST-MODIFIED:20260115T124407Z
UID:10000061-1771668000-1771675200@www.lennartchrist.de
SUMMARY:Infostand in Käfertal
DESCRIPTION:Heute sind mein Team und ich mit einem Infostand in der Nähe des Stempelparks in Käfertal präsent. Mir ist der direkte Austausch wichtig: zuhören\, erklären\, diskutieren. Politik darf keine Einbahnstraße sein. Wer Fragen\, Anregungen oder Kritik hat\, ist herzlich eingeladen\, vorbeizukommen und ins Gespräch zu kommen.
URL:https://www.lennartchrist.de/event/infostand-in-kaefertal/2026-02-21/
LOCATION:In der Nähe des Stempelparks\, Mannheimer Straße 38\, Mannheim\, 68309\, Germany
CATEGORIES:Infostände
END:VEVENT
BEGIN:VEVENT
DTSTART;TZID=Europe/Berlin:20260221T090000
DTEND;TZID=Europe/Berlin:20260221T110000
DTSTAMP:20260420T135345
CREATED:20260115T124916Z
LAST-MODIFIED:20260115T124916Z
UID:10000067-1771664400-1771671600@www.lennartchrist.de
SUMMARY:Infostand in Sandhofen
DESCRIPTION:Heute sind mein Team und ich mit einem Infostand im Lilienthalcenter in Sandhofen präsent. Mir ist der direkte Austausch wichtig: zuhören\, erklären\, diskutieren. Politik darf keine Einbahnstraße sein. Wer Fragen\, Anregungen oder Kritik hat\, ist herzlich eingeladen\, vorbeizukommen und ins Gespräch zu kommen.
URL:https://www.lennartchrist.de/event/infostand-in-sandhofen-2/2026-02-21/
LOCATION:Lilienthalcenter\, Amselstraße 10\, Mannheim\, 68307\, Germany
CATEGORIES:Infostände
END:VEVENT
BEGIN:VEVENT
DTSTART;TZID=Europe/Berlin:20260221T090000
DTEND;TZID=Europe/Berlin:20260221T110000
DTSTAMP:20260420T135345
CREATED:20260115T123021Z
LAST-MODIFIED:20260130T223014Z
UID:10000048-1771664400-1771671600@www.lennartchrist.de
SUMMARY:Infostand auf der Schönau
DESCRIPTION:Heute sind mein Team und ich mit einem Infostand auf dem Lena-Maurer-Platz auf der Schönau präsent. Mir ist der direkte Austausch wichtig: zuhören\, erklären\, diskutieren. Politik darf keine Einbahnstraße sein. Wer Fragen\, Anregungen oder Kritik hat\, ist herzlich eingeladen\, vorbeizukommen und ins Gespräch zu kommen.
URL:https://www.lennartchrist.de/event/infostand-auf-der-schoenau/2026-02-21/
LOCATION:Lena-Maurer-Platz\, Lena-Maurer-Platz\, Mannheim\, 68307\, Germany
CATEGORIES:Infostände
END:VEVENT
BEGIN:VEVENT
DTSTART;TZID=Europe/Berlin:20260220T100000
DTEND;TZID=Europe/Berlin:20260221T100000
DTSTAMP:20260420T135345
CREATED:20260115T130223Z
LAST-MODIFIED:20260115T130223Z
UID:10000074-1771581600-1771668000@www.lennartchrist.de
SUMMARY:Teilnahme am Bundesparteitag der CDU Deutschlands
DESCRIPTION:Teilnahme als Delegierter und Kreisvorsitzender der CDU Mannheim am Bundesparteitag der CDU Deutschlands. In einer entscheidenden Phase geht es darum\, den Kurs unseres Landes zu bestimmen und Verantwortung zu übernehmen. Mit der Neuwahl des Bundesvorstands stellen wir die CDU inhaltlich und personell für die kommenden Aufgaben auf – klar\, geschlossen und zukunftsorientiert.
URL:https://www.lennartchrist.de/event/teilnahme-am-bundesparteitag-der-cdu-deutschlands/
CATEGORIES:Parteiveranstaltung
END:VEVENT
END:VCALENDAR