BEGIN:VCALENDAR
VERSION:2.0
PRODID:-//LennartChrist.de - ECPv6.15.17//NONSGML v1.0//EN
CALSCALE:GREGORIAN
METHOD:PUBLISH
X-WR-CALNAME:LennartChrist.de
X-ORIGINAL-URL:https://www.lennartchrist.de
X-WR-CALDESC:Veranstaltungen für LennartChrist.de
REFRESH-INTERVAL;VALUE=DURATION:PT1H
X-Robots-Tag:noindex
X-PUBLISHED-TTL:PT1H
BEGIN:VTIMEZONE
TZID:Europe/Berlin
BEGIN:DAYLIGHT
TZOFFSETFROM:+0100
TZOFFSETTO:+0200
TZNAME:CEST
DTSTART:20250330T010000
END:DAYLIGHT
BEGIN:STANDARD
TZOFFSETFROM:+0200
TZOFFSETTO:+0100
TZNAME:CET
DTSTART:20251026T010000
END:STANDARD
BEGIN:DAYLIGHT
TZOFFSETFROM:+0100
TZOFFSETTO:+0200
TZNAME:CEST
DTSTART:20260329T010000
END:DAYLIGHT
BEGIN:STANDARD
TZOFFSETFROM:+0200
TZOFFSETTO:+0100
TZNAME:CET
DTSTART:20261025T010000
END:STANDARD
BEGIN:DAYLIGHT
TZOFFSETFROM:+0100
TZOFFSETTO:+0200
TZNAME:CEST
DTSTART:20270328T010000
END:DAYLIGHT
BEGIN:STANDARD
TZOFFSETFROM:+0200
TZOFFSETTO:+0100
TZNAME:CET
DTSTART:20271031T010000
END:STANDARD
END:VTIMEZONE
BEGIN:VEVENT
DTSTART;TZID=Europe/Berlin:20260227T100000
DTEND;TZID=Europe/Berlin:20260227T120000
DTSTAMP:20260421T010639
CREATED:20260115T122447Z
LAST-MODIFIED:20260115T123345Z
UID:10000044-1772186400-1772193600@www.lennartchrist.de
SUMMARY:Infostand auf der Gartenstadt
DESCRIPTION:Heute bin ich mit einem Infostand auf dem Freyaplatz auf der Gartenstadt präsent. Mir ist der direkte Austausch wichtig: zuhören\, erklären\, diskutieren. Politik darf keine Einbahnstraße sein. Wer Fragen\, Anregungen oder Kritik hat\, ist herzlich eingeladen\, vorbeizukommen und ins Gespräch zu kommen.
URL:https://www.lennartchrist.de/event/infostand-auf-der-gartenstadt/2026-02-27/
LOCATION:Freyaplatz\, Freyaplatz 1\, Mannheim\, 68305\, Germany
CATEGORIES:Infostände
END:VEVENT
BEGIN:VEVENT
DTSTART;TZID=Europe/Berlin:20260227T130000
DTEND;TZID=Europe/Berlin:20260227T180000
DTSTAMP:20260421T010639
CREATED:20260115T120154Z
LAST-MODIFIED:20260115T123443Z
UID:10000035-1772197200-1772215200@www.lennartchrist.de
SUMMARY:Haustürbesuche in Käfertal
DESCRIPTION:Ich bin heute in Käfertal unterwegs\, um mit den Menschen vor Ort ins Gespräch zu kommen. Mir ist wichtig zu hören\, was gut läuft – und wo es hakt. Politik beginnt für mich nicht im Rathaus\, sondern direkt bei Ihnen vor der Haustür. Ihre Anliegen nehme ich mit und setze mich dafür ein\, dass unser Stadtteil im Alltag zuverlässig funktioniert.
URL:https://www.lennartchrist.de/event/haustuerbesuche-in-kaefertal/2026-02-27/
CATEGORIES:Haustürbesuche
END:VEVENT
END:VCALENDAR