BEGIN:VCALENDAR
VERSION:2.0
PRODID:-//LennartChrist.de - ECPv6.15.17//NONSGML v1.0//EN
CALSCALE:GREGORIAN
METHOD:PUBLISH
X-ORIGINAL-URL:https://www.lennartchrist.de
X-WR-CALDESC:Veranstaltungen für LennartChrist.de
REFRESH-INTERVAL;VALUE=DURATION:PT1H
X-Robots-Tag:noindex
X-PUBLISHED-TTL:PT1H
BEGIN:VTIMEZONE
TZID:Europe/Berlin
BEGIN:DAYLIGHT
TZOFFSETFROM:+0100
TZOFFSETTO:+0200
TZNAME:CEST
DTSTART:20250330T010000
END:DAYLIGHT
BEGIN:STANDARD
TZOFFSETFROM:+0200
TZOFFSETTO:+0100
TZNAME:CET
DTSTART:20251026T010000
END:STANDARD
BEGIN:DAYLIGHT
TZOFFSETFROM:+0100
TZOFFSETTO:+0200
TZNAME:CEST
DTSTART:20260329T010000
END:DAYLIGHT
BEGIN:STANDARD
TZOFFSETFROM:+0200
TZOFFSETTO:+0100
TZNAME:CET
DTSTART:20261025T010000
END:STANDARD
BEGIN:DAYLIGHT
TZOFFSETFROM:+0100
TZOFFSETTO:+0200
TZNAME:CEST
DTSTART:20270328T010000
END:DAYLIGHT
BEGIN:STANDARD
TZOFFSETFROM:+0200
TZOFFSETTO:+0100
TZNAME:CET
DTSTART:20271031T010000
END:STANDARD
END:VTIMEZONE
BEGIN:VEVENT
DTSTART;TZID=Europe/Berlin:20260212T100000
DTEND;TZID=Europe/Berlin:20260212T120000
DTSTAMP:20260421T060945
CREATED:20260115T122351Z
LAST-MODIFIED:20260130T222914Z
UID:10000079-1770890400-1770897600@www.lennartchrist.de
SUMMARY:Infostand in Wallstadt
DESCRIPTION:Heute bin ich mit einem Infostand auf dem Rathausplatz in Wallstadt präsent. Mir ist der direkte Austausch wichtig: zuhören\, erklären\, diskutieren. Politik darf keine Einbahnstraße sein. Wer Fragen\, Anregungen oder Kritik hat\, ist herzlich eingeladen\, vorbeizukommen und ins Gespräch zu kommen.
URL:https://www.lennartchrist.de/event/infostand-in-wallstadt/2026-02-12/
LOCATION:Rathausplatz Wallstadt\, Mosbacher Straße 17\, Mannheim\, 68259\, Germany
CATEGORIES:Infostände
END:VEVENT
BEGIN:VEVENT
DTSTART;TZID=Europe/Berlin:20260212T110000
DTEND;TZID=Europe/Berlin:20260212T123000
DTSTAMP:20260421T060945
CREATED:20260115T125631Z
LAST-MODIFIED:20260115T125631Z
UID:10000070-1770894000-1770899400@www.lennartchrist.de
SUMMARY:Teilnahme an der Podiumsdiskussion "Bock auf Wahl"
DESCRIPTION:Bei der Podiumsdiskussion „Bock auf Wahl“ geht es mir um klare Positionen\, faire Debatten und konkrete Lösungen für die Herausforderungen junger Menschen vor Ort. Gute Jugendpolitik entscheidet darüber\, ob Teilhabe gelingt\, Chancen eröffnet werden und Engagement möglich bleibt. Politik muss verständlich bleiben – und Antworten geben\, die im Alltag von jungen Menschen spürbar sind: bei Bildung\, Mobilität\, Wohnraum und Beteiligung.
URL:https://www.lennartchrist.de/event/teilnahme-an-der-podiumsdiskussion-bock-auf-wahl/
CATEGORIES:Diskussionsrunde
END:VEVENT
BEGIN:VEVENT
DTSTART;TZID=Europe/Berlin:20260212T130000
DTEND;TZID=Europe/Berlin:20260212T180000
DTSTAMP:20260421T060945
CREATED:20260115T115927Z
LAST-MODIFIED:20260115T123455Z
UID:10000028-1770901200-1770919200@www.lennartchrist.de
SUMMARY:Haustürbesuche auf der Blumenau
DESCRIPTION:Ich bin heute auf der Blumenau unterwegs\, um mit den Menschen vor Ort ins Gespräch zu kommen. Mir ist wichtig zu hören\, was gut läuft – und wo es hakt. Politik beginnt für mich nicht im Rathaus\, sondern direkt bei Ihnen vor der Haustür. Ihre Anliegen nehme ich mit und setze mich dafür ein\, dass unser Stadtteil im Alltag zuverlässig funktioniert.
URL:https://www.lennartchrist.de/event/haustuerbesuche-auf-der-blumenau/2026-02-12/
CATEGORIES:Haustürbesuche
END:VEVENT
END:VCALENDAR