BEGIN:VCALENDAR
VERSION:2.0
PRODID:-//LennartChrist.de - ECPv6.15.17//NONSGML v1.0//EN
CALSCALE:GREGORIAN
METHOD:PUBLISH
X-WR-CALNAME:LennartChrist.de
X-ORIGINAL-URL:https://www.lennartchrist.de
X-WR-CALDESC:Veranstaltungen für LennartChrist.de
REFRESH-INTERVAL;VALUE=DURATION:PT1H
X-Robots-Tag:noindex
X-PUBLISHED-TTL:PT1H
BEGIN:VTIMEZONE
TZID:Europe/Berlin
BEGIN:DAYLIGHT
TZOFFSETFROM:+0100
TZOFFSETTO:+0200
TZNAME:CEST
DTSTART:20250330T010000
END:DAYLIGHT
BEGIN:STANDARD
TZOFFSETFROM:+0200
TZOFFSETTO:+0100
TZNAME:CET
DTSTART:20251026T010000
END:STANDARD
BEGIN:DAYLIGHT
TZOFFSETFROM:+0100
TZOFFSETTO:+0200
TZNAME:CEST
DTSTART:20260329T010000
END:DAYLIGHT
BEGIN:STANDARD
TZOFFSETFROM:+0200
TZOFFSETTO:+0100
TZNAME:CET
DTSTART:20261025T010000
END:STANDARD
BEGIN:DAYLIGHT
TZOFFSETFROM:+0100
TZOFFSETTO:+0200
TZNAME:CEST
DTSTART:20270328T010000
END:DAYLIGHT
BEGIN:STANDARD
TZOFFSETFROM:+0200
TZOFFSETTO:+0100
TZNAME:CET
DTSTART:20271031T010000
END:STANDARD
END:VTIMEZONE
BEGIN:VEVENT
DTSTART;TZID=Europe/Berlin:20260126T090000
DTEND;TZID=Europe/Berlin:20260126T180000
DTSTAMP:20260421T055246
CREATED:20260115T114928Z
LAST-MODIFIED:20260115T123529Z
UID:10000006-1769418000-1769450400@www.lennartchrist.de
SUMMARY:Haustürbesuche auf dem Waldhof
DESCRIPTION:Ich bin heute auf dem Waldhof unterwegs\, um mit den Menschen vor Ort ins Gespräch zu kommen. Mir ist wichtig zu hören\, was gut läuft – und wo es hakt. Politik beginnt für mich nicht im Rathaus\, sondern direkt bei Ihnen vor der Haustür. Ihre Anliegen nehme ich mit und setze mich dafür ein\, dass unser Stadtteil im Alltag zuverlässig funktioniert.
URL:https://www.lennartchrist.de/event/haustuerbesuche-auf-dem-waldhof/2026-01-26/
CATEGORIES:Haustürbesuche
END:VEVENT
END:VCALENDAR